BEGIN:VCALENDAR
VERSION:2.0
PRODID:-//wp-events-plugin.com//7.2.3.1//EN
TZID:America/Los_Angeles
X-WR-TIMEZONE:America/Los_Angeles
BEGIN:VEVENT
UID:37@deliciousvoyages.com
DTSTART;VALUE=DATE:20221212
DTEND;VALUE=DATE:20221213
DTSTAMP:20221212T195833Z
URL:https://deliciousvoyages.com/events/stkyxerwhrfnf
SUMMARY:STKYxERwhrFNf
DESCRIPTION:ntrLTHjJ
CATEGORIES:Wine Tasting
END:VEVENT
END:VCALENDAR